BEGIN:VCALENDAR
VERSION:2.0
PRODID:-//ExhibitionMatches.com//NONSGML v1.0//EN
BEGIN:VEVENT
UID=FB12CAF2-F5BC-AA3F-E14236EB8EE75A84
DTSTAMP=20260421T200144Z
DTSTART;VALUE=DATE:20260516
DTEND;VALUE=DATE:20260518
SUMMARY:2026 MTUSAW State Tournament
LOCATION:Great Falls High School Field House, 1801 5th Ave S, Great Falls, MT, 59405
DESCRIPTION:View full event details: https://wrestlingtournaments.org/view.cfm?ID=107003
Contact: Jamie Trueax Montanausaw@gmail.com
URL;VALUE=URI:https://wrestlingtournaments.org/view.cfm?ID=107003
END:VEVENT
END:VCALENDAR