BEGIN:VCALENDAR
VERSION:2.0
PRODID:-//ExhibitionMatches.com//NONSGML v1.0//EN
BEGIN:VEVENT
UID=FB73D1D8-DFFF-FD25-43684B97E27B5B79
DTSTAMP=20260421T201220Z
DTSTART;VALUE=DATE:20260425
DTEND;VALUE=DATE:20260426
SUMMARY:Rocky Mountain Rumble Freestyle
LOCATION:Stevensville High School District, 300 Park Ave, Stevensville, MT, 59870
DESCRIPTION:View full event details: https://wrestlingtournaments.org/view.cfm?ID=107138

URL;VALUE=URI:https://wrestlingtournaments.org/view.cfm?ID=107138
END:VEVENT
END:VCALENDAR