BEGIN:VCALENDAR
VERSION:2.0
PRODID:-//ExhibitionMatches.com//NONSGML v1.0//EN
BEGIN:VEVENT
UID=FB902CD5-BC69-806A-8FA3DE4B1DB08182
DTSTAMP=20260421T201526Z
DTSTART;VALUE=DATE:20260425
DTEND;VALUE=DATE:20260426
SUMMARY:Rocky Mountain Rumble Greco
LOCATION:Stevensville High School District, 300 Park Ave, Stevensville, MT, 59870
DESCRIPTION:View full event details: https://wrestlingtournaments.org/view.cfm?ID=107145

URL;VALUE=URI:https://wrestlingtournaments.org/view.cfm?ID=107145
END:VEVENT
END:VCALENDAR